BEGIN:VCALENDAR
VERSION:2.0
PRODID:Curtin Supply Chain Students Club
CALSCALE:GREGORIAN
BEGIN:VEVENT
DTSTAMP:20260421T121313Z
UID:5038aed8-3d50-4e6c-8b48-a9dbb6c86400
DTSTART:20260421T063000Z
DTEND:20260421T093000Z
DESCRIPTION:WE'RE EXCITED TO ANNOUNCE OUR FIRST SUPPLY CHAIN EVENT!! 🎤\n
 \nWe are pleased to announce there will be Q&A Panel event with special gu
 est speakers from Industry including Mr David Sutherland (President of Aus
 tralasian Supply Chain & Logistics Association WA) 👀😁 \n\nIt will t
 ake place Tuesday 21 April 2:30-5:30pm in Building 106\, Room 101 on Curti
 n Campus (Please scan QR Code)\n\nThere will be Discussions about bridging
  the gap between Industry and Academia as well as Q&A time.\n\nBE SURE TO 
 REGISTER QUICKLY BEFORE SPOTS FILL UP\n\nCome along for some nice food\, n
 etworking and to learn from our Industry Experts.\n\nCan't wait to see you
  all there 🚛🚢🛩️\n
SUMMARY:Supply Chain Q&A Panel Event x ASCLA - Tuesday 21 April 2:30-5:30pm
  - Free entrance (and food)
URL;VALUE=URI:https://supplychain.cguild.club/public/schedule/events/77014-
 supply-chain-q-a-panel-event-x-ascla-tuesday-21-april-2-30-5-30pm-free-ent
 rance-and-food
END:VEVENT
END:VCALENDAR
